BEGIN:VCALENDAR
VERSION:2.0
PRODID:-//DREDF - ECPv6.15.17.1//NONSGML v1.0//EN
CALSCALE:GREGORIAN
METHOD:PUBLISH
X-ORIGINAL-URL:https://dredf.org
X-WR-CALDESC:Events for DREDF
REFRESH-INTERVAL;VALUE=DURATION:PT1H
X-Robots-Tag:noindex
X-PUBLISHED-TTL:PT1H
BEGIN:VTIMEZONE
TZID:America/Los_Angeles
BEGIN:DAYLIGHT
TZOFFSETFROM:-0800
TZOFFSETTO:-0700
TZNAME:PDT
DTSTART:20250309T100000
END:DAYLIGHT
BEGIN:STANDARD
TZOFFSETFROM:-0700
TZOFFSETTO:-0800
TZNAME:PST
DTSTART:20251102T090000
END:STANDARD
BEGIN:DAYLIGHT
TZOFFSETFROM:-0800
TZOFFSETTO:-0700
TZNAME:PDT
DTSTART:20260308T100000
END:DAYLIGHT
BEGIN:STANDARD
TZOFFSETFROM:-0700
TZOFFSETTO:-0800
TZNAME:PST
DTSTART:20261101T090000
END:STANDARD
BEGIN:DAYLIGHT
TZOFFSETFROM:-0800
TZOFFSETTO:-0700
TZNAME:PDT
DTSTART:20270314T100000
END:DAYLIGHT
BEGIN:STANDARD
TZOFFSETFROM:-0700
TZOFFSETTO:-0800
TZNAME:PST
DTSTART:20271107T090000
END:STANDARD
END:VTIMEZONE
BEGIN:VEVENT
DTSTART;TZID=America/Los_Angeles:20260210T190000
DTEND;TZID=America/Los_Angeles:20260210T204500
DTSTAMP:20260424T084721
CREATED:20260127T211006Z
LAST-MODIFIED:20260127T211034Z
UID:30900-1770750000-1770756300@dredf.org
SUMMARY:Parte 6 de 10: Creando Objetivos SMART para el documento IEP
DESCRIPTION:Acompáñenos mientras repasamos los estándares legales de los objetivos\, la fórmula para crear objetivos SMART del Programa Educativo Individualizado (IEP) y todo relacionado con los objetivos\, desde los puntos de referencia hasta los objetivos a corto plazo y el objetivo anual en sí. Proveeremos ejemplos de objetivos apropiados y le ayudaremos a entender los objetivos del documento de IEP de su hijo. Asegúrese de traer el IEP a este seminario web! \n  \n*Se proporcionará CART (subtítulos en directo). Póngase en contacto con pti@dredf.org antes del 2 de febrero para solicitar cualquier adaptación que pueda necesitar. Es posible que no se puedan atender las solicitudes de última hora. Debe registrarse con anticipación para esta capacitación: Enlace de registro.
URL:https://dredf.org/event/parte-6-de-10-creando-objetivos-smart-para-el-documento-iep/
LOCATION:Zoom
ORGANIZER;CN="DREDF Parent Training and Information Center":MAILTO:iephelp@dredf.org
END:VEVENT
END:VCALENDAR