BEGIN:VCALENDAR
VERSION:2.0
PRODID:-//DREDF - ECPv6.15.17.1//NONSGML v1.0//EN
CALSCALE:GREGORIAN
METHOD:PUBLISH
X-ORIGINAL-URL:https://dredf.org
X-WR-CALDESC:Events for DREDF
REFRESH-INTERVAL;VALUE=DURATION:PT1H
X-Robots-Tag:noindex
X-PUBLISHED-TTL:PT1H
BEGIN:VTIMEZONE
TZID:America/Los_Angeles
BEGIN:DAYLIGHT
TZOFFSETFROM:-0800
TZOFFSETTO:-0700
TZNAME:PDT
DTSTART:20250309T100000
END:DAYLIGHT
BEGIN:STANDARD
TZOFFSETFROM:-0700
TZOFFSETTO:-0800
TZNAME:PST
DTSTART:20251102T090000
END:STANDARD
BEGIN:DAYLIGHT
TZOFFSETFROM:-0800
TZOFFSETTO:-0700
TZNAME:PDT
DTSTART:20260308T100000
END:DAYLIGHT
BEGIN:STANDARD
TZOFFSETFROM:-0700
TZOFFSETTO:-0800
TZNAME:PST
DTSTART:20261101T090000
END:STANDARD
BEGIN:DAYLIGHT
TZOFFSETFROM:-0800
TZOFFSETTO:-0700
TZNAME:PDT
DTSTART:20270314T100000
END:DAYLIGHT
BEGIN:STANDARD
TZOFFSETFROM:-0700
TZOFFSETTO:-0800
TZNAME:PST
DTSTART:20271107T090000
END:STANDARD
END:VTIMEZONE
BEGIN:VEVENT
DTSTART;TZID=America/Los_Angeles:20260423T180000
DTEND;TZID=America/Los_Angeles:20260423T190000
DTSTAMP:20260422T104653
CREATED:20260324T210711Z
LAST-MODIFIED:20260414T184639Z
UID:31121-1776967200-1776970800@dredf.org
SUMMARY:Transition to Adulthood: What Comes Next After High School?
DESCRIPTION:Curious about what happens after the IEP? This workshop will provide guidance\, resources\, and practical steps to help families plan for life after high school. \n  \nYou must register in advance for this event: Registration Link
URL:https://dredf.org/event/transition-to-adulthood/
LOCATION:Zoom
ORGANIZER;CN="DREDF Parent Training and Information Center":MAILTO:iephelp@dredf.org
END:VEVENT
BEGIN:VEVENT
DTSTART;TZID=America/Los_Angeles:20260425T090000
DTEND;TZID=America/Los_Angeles:20260425T120000
DTSTAMP:20260422T104653
CREATED:20260324T204351Z
LAST-MODIFIED:20260324T205640Z
UID:31115-1777107600-1777118400@dredf.org
SUMMARY:3rd Annual Butte County Parent University & Resource Fair / Evento Anual del Condado de Butte
DESCRIPTION:-Numerous workshops by various providers on parenting and education of students with disabilities \n-Connecting and networking with parents and community providers \n-Access to information from providers and vendors serving the greater Butte Community \n  \nWORKSHOP SESSIONS\n-How to Read Your Child’s IEP\n-Preschool to School Age Transitions IFSP to IEP\n-An Orientation to Rowell Family Empowerment\n-Nurtured Heart: Supporting Positive Behavior\n-Healing After Trauma\n-Transition to Adulthood\n-Feeling Safe\, Being Safe Emergency Preparedness\n-Employment Programs and Options\n-Using Communication Tools to Boost Connection\n-Autism 101: Understanding Autism Spectrum Disorder \n  \nSCHEDULE\n9:00 to 9:15am – Check In\n10:00 to 10:45am – Session 1\n11:00 to 11:45 – Session 2 \n  \nSPANISH AND ASL\nSeveral of the sessions will offer real-time Spanish translation and ASL interpretation. \n  \nCHILDCARE\nChild care supervision and activities will be provided only for those families who are pre-registered by April 17th. \n  \nYou must register in advance for this event: Registration Link \n  \n// \n  \n-Ofrecemos una variedad de talleres de educación y enseñanza sobre habilidades para padres con niños descapacitados\n-Les ofrecemos la oportunidad de conocer e interactuar con proveedores comunitarios y otros padres con estudiantes en el programa de educación especial\n-Aceso directo a mucha información de proveedores del condado de Butte \n  \nTALLERES\n-Cómo leer el IEP (Plan individualizado de educación)\n-Transiciones de pre-escolar a la escuela con el IFSP a IEP\n-Orientación de Rowell Family Empowerment\n-Corazón nutrido: Cómo fomentar comportamientos positivos\n-Transición a la edad adulta\n-Sentirse seguro y estar seguro con preparación para emergencias\n-Opciones y programas para el empleo\n-Usar herramientas de comunicación para fortalecer conexiónes\n-Autismo 101: Entender bien el autismo \n  \nHORARIO\n9:00 a 9:15am – Inscripción\n10:00 a 10:45am – Sesión 1\n11:00 a 11:45am – Sesión 2 \n  \nESPAÑOL Y LENGUA DE SEÑAS\nSe ofrecerán varias sesiones con interpretación en español y lengua de señas estadounidense. \n  \nCUIDADO INFANTIL\nHabrá cuidado de niños para las familias que se registran antes o en el día 17 de abril. \n  \nDebe registrarse con anticipación para esta capacitación: Enlace de registro
URL:https://dredf.org/event/3rd-annual-butte-county-parent-university-resource-fair/
LOCATION:Bidwell Junior High School\, 2376 North Ave.\, Chico\, CA\, 95926\, United States
ORGANIZER;CN="DREDF Parent Training and Information Center":MAILTO:iephelp@dredf.org
END:VEVENT
BEGIN:VEVENT
DTSTART;TZID=America/Los_Angeles:20260425T100000
DTEND;TZID=America/Los_Angeles:20260425T130000
DTSTAMP:20260422T104653
CREATED:20260416T214152Z
LAST-MODIFIED:20260416T214152Z
UID:31165-1777111200-1777122000@dredf.org
SUMMARY:19th Annual West County Special Education Community Resource and Transition Fair / 19ª Feria anual de recursos comunitarios y transición para la educación especial del condado de West County
DESCRIPTION:Start planning for your transition from school services to adult services: \n  \n-Find new resources in our community!\n-Community agencies providing great information!\n-Enjoy music & other entertainment!\n-Free door prizes! \n-Free fun for the whole family! \n  \nIt’s never too early to start your transition planning! \n  \n// \n  \nComienza a planear la transición de los servicios escolares a los servicios adultos: \n  \n-Entérate acerca de los nuevos recursos disponsibles en nuestra\n-Comunidad agencias con información muy útil\n-Disfruta de la música y de otros espectáculos\n-Premios gratis con la entrada \n-Diversión gratis para toda la familia! \n  \nNunca es demasiado temprano para comenzar a planear para tu\ntransición!
URL:https://dredf.org/event/19th-annual-west-county-special-education-community-resource-and-transition-fair-19a-feria-anual-de-recursos-comunitarios-y-transicion-para-la-educacion-especial-del-condado-de-west-county/
LOCATION:Vista Hills Education Center / Vista Hills Centro de Educación\, 2625 Barnard St.\, Richmond\, CA\, 94806\, United States
END:VEVENT
BEGIN:VEVENT
DTSTART;TZID=America/Los_Angeles:20260508T100000
DTEND;TZID=America/Los_Angeles:20260508T130000
DTSTAMP:20260422T104653
CREATED:20260223T185254Z
LAST-MODIFIED:20260223T185254Z
UID:30968-1778234400-1778245200@dredf.org
SUMMARY:Valley Mountain Regional Center Transition Fair / Feria de Transición
DESCRIPTION:Curious about your next step? Join us for a day full of learning and fun! \n  \nAt the fair you will learn about: \n-Vocational and Employment Support\n-Day Programs\n-Community Resources\n-ILS/SLS \n  \n*Snacks and water provided to students. \n*There will be raffle prizes and music. \n  \nJoin Us! \n  \n// \n  \n¿Te interesa saber cual es tu próximo paso? ¡Únete a nosotros para un día lleno de aprendizaje y diversión! \n  \nEn la feria de transición\, aprenderás sobre:\n-Apoyo vocacional y laboral\n-Programas De Dia\n-Recursos comunitarios\n-ILS/SLS \n  \n*Se ofrecen bocadillos y agua a los estudíantes. \n*Habrá premios de refia y música. \n  \nAcompañenos!
URL:https://dredf.org/event/valley-mountain-regional-center-transition-fair-feria-de-transicion/
LOCATION:Turner Park\, 287 Treat Ave.\, San Andreas\, CA\, 95249\, United States
END:VEVENT
BEGIN:VEVENT
DTSTART;TZID=America/Los_Angeles:20260511T190000
DTEND;TZID=America/Los_Angeles:20260511T204500
DTSTAMP:20260422T104653
CREATED:20260408T213614Z
LAST-MODIFIED:20260408T213614Z
UID:31145-1778526000-1778532300@dredf.org
SUMMARY:Part 9 of 10: Navigating Behaviors and Discipline at School
DESCRIPTION:Join DREDF’s advocates as we walk through the requirements in federal and state special education law regarding behaviors at school. What must a school do\, and how can a 504 plan or IEP address behaviors? When behaviors rise to the level of discipline\, how must schools respond\, and what steps can parents take? We’ll discuss all this as well as advocacy tips and strategies for anyone navigating the special education system. \n  \n*CART (live captions) provided. Contact pti@dredf.org for any accommodations you may need by Monday\, May 4th. Late requests may not be possible to fill. You must register in advance for this webinar: Registration Link
URL:https://dredf.org/event/part-9-of-10-navigating-behaviors-and-discipline-at-school/
LOCATION:Zoom
ORGANIZER;CN="DREDF Parent Training and Information Center":MAILTO:iephelp@dredf.org
END:VEVENT
BEGIN:VEVENT
DTSTART;TZID=America/Los_Angeles:20260526T100000
DTEND;TZID=America/Los_Angeles:20260526T170000
DTSTAMP:20260422T104653
CREATED:20260422T163021Z
LAST-MODIFIED:20260422T163241Z
UID:31178-1779789600-1779814800@dredf.org
SUMMARY:California Disability Leadership Alliance: Day of Action at the Capitol
DESCRIPTION:The California Disability Leadership Alliance is excited to announce our 2nd annual CDLA Day of Action at the Capitol. Join us on the California Capitol West Steps to rally for our rights and services and celebrate disability culture and pride. Nothing about us\, without us! \n  \nEvent will feature a resource fair\, rally and program. Participants will have the opportunity to do legislative visits in the afternoon. \n  \nSome priority issues for the day include: \n  \n-Honor the 50th anniversary of the Individuals with Disabilities Education Act (IDEA) and protect funding for disabled students \n-Protect and enforce civil rights \n-Protect language rights\, physical access\, and access to health and mental health care\, education\, and employment \n-Defend and support disabled people targeted by government attacks\, including immigrants and LGBTQIA+ individuals \n-Improve physical\, digital\, and communication accessibility \n-Improve education outcomes and language access for students who are Deaf or hard of hearing (ASL & English) \n-Support voluntary\, community-based\, peer led mental health services and supports \n-Include Certified Peers alongside navigators to assist with Medi-Cal eligibility\, enrollment\, and retention \n-Oppose forced mental health treatment\, unnecessary interactions with law enforcement\, incarceration\, or institutionalization \n-Oppose state cuts to health care and HCBS for all communities \n-Oppose health care cuts for immigrants \n-End the criminalization of people with disabilities \n  \n\n\n\n\n\n\n\nRegister Today\n\n\n\n \n\n\n\nASL\, CART (live captions) and Spanish language interpreting provided. Contact cadlalliance@gmail.com for any accommodations you may need by Monday\, May 18\, 2026. Late requests may not be possible to fill.
URL:https://dredf.org/event/california-disability-leadership-alliance-day-of-action-at-the-capitol/
LOCATION:California State Capitol\, 1315 10th Street\, Sacramento\, CA\, 95814\, United States
END:VEVENT
END:VCALENDAR