BEGIN:VCALENDAR
VERSION:2.0
PRODID:-//DREDF - ECPv6.15.17.1//NONSGML v1.0//EN
CALSCALE:GREGORIAN
METHOD:PUBLISH
X-WR-CALNAME:DREDF
X-ORIGINAL-URL:https://dredf.org
X-WR-CALDESC:Events for DREDF
REFRESH-INTERVAL;VALUE=DURATION:PT1H
X-Robots-Tag:noindex
X-PUBLISHED-TTL:PT1H
BEGIN:VTIMEZONE
TZID:America/Los_Angeles
BEGIN:DAYLIGHT
TZOFFSETFROM:-0800
TZOFFSETTO:-0700
TZNAME:PDT
DTSTART:20250309T100000
END:DAYLIGHT
BEGIN:STANDARD
TZOFFSETFROM:-0700
TZOFFSETTO:-0800
TZNAME:PST
DTSTART:20251102T090000
END:STANDARD
BEGIN:DAYLIGHT
TZOFFSETFROM:-0800
TZOFFSETTO:-0700
TZNAME:PDT
DTSTART:20260308T100000
END:DAYLIGHT
BEGIN:STANDARD
TZOFFSETFROM:-0700
TZOFFSETTO:-0800
TZNAME:PST
DTSTART:20261101T090000
END:STANDARD
BEGIN:DAYLIGHT
TZOFFSETFROM:-0800
TZOFFSETTO:-0700
TZNAME:PDT
DTSTART:20270314T100000
END:DAYLIGHT
BEGIN:STANDARD
TZOFFSETFROM:-0700
TZOFFSETTO:-0800
TZNAME:PST
DTSTART:20271107T090000
END:STANDARD
END:VTIMEZONE
BEGIN:VEVENT
DTSTART;TZID=America/Los_Angeles:20260209T190000
DTEND;TZID=America/Los_Angeles:20260209T204500
DTSTAMP:20260424T064830
CREATED:20260127T203854Z
LAST-MODIFIED:20260127T211119Z
UID:30899-1770663600-1770669900@dredf.org
SUMMARY:Part 6 of 10: Writing SMART Goals in the IEP
DESCRIPTION:Join us as we go over the legal standards for goals\, the formula for writing SMART Individualized Education Program (IEP) goals\, and everything from the baseline to short-term objectives to the annual goal itself. We’ll give examples of good goals and help you understand the goals in your child’s IEP. Be sure to bring the IEP to this webinar! \n  \n*CART (live captions) provided. Contact pti@dredf.org for any accommodations you may need by Monday\, February 2nd. Late requests may not be possible to fill. You must register in advance for this webinar: Registration Link.
URL:https://dredf.org/event/part-6-of-10-writing-smart-goals-in-the-iep/
LOCATION:Zoom
ORGANIZER;CN="DREDF Parent Training and Information Center":MAILTO:iephelp@dredf.org
END:VEVENT
BEGIN:VEVENT
DTSTART;TZID=America/Los_Angeles:20260210T190000
DTEND;TZID=America/Los_Angeles:20260210T204500
DTSTAMP:20260424T064830
CREATED:20260127T211006Z
LAST-MODIFIED:20260127T211034Z
UID:30900-1770750000-1770756300@dredf.org
SUMMARY:Parte 6 de 10: Creando Objetivos SMART para el documento IEP
DESCRIPTION:Acompáñenos mientras repasamos los estándares legales de los objetivos\, la fórmula para crear objetivos SMART del Programa Educativo Individualizado (IEP) y todo relacionado con los objetivos\, desde los puntos de referencia hasta los objetivos a corto plazo y el objetivo anual en sí. Proveeremos ejemplos de objetivos apropiados y le ayudaremos a entender los objetivos del documento de IEP de su hijo. Asegúrese de traer el IEP a este seminario web! \n  \n*Se proporcionará CART (subtítulos en directo). Póngase en contacto con pti@dredf.org antes del 2 de febrero para solicitar cualquier adaptación que pueda necesitar. Es posible que no se puedan atender las solicitudes de última hora. Debe registrarse con anticipación para esta capacitación: Enlace de registro.
URL:https://dredf.org/event/parte-6-de-10-creando-objetivos-smart-para-el-documento-iep/
LOCATION:Zoom
ORGANIZER;CN="DREDF Parent Training and Information Center":MAILTO:iephelp@dredf.org
END:VEVENT
BEGIN:VEVENT
DTSTART;TZID=America/Los_Angeles:20260219T120000
DTEND;TZID=America/Los_Angeles:20260219T130000
DTSTAMP:20260424T064830
CREATED:20260203T174356Z
LAST-MODIFIED:20260203T174356Z
UID:30914-1771502400-1771506000@dredf.org
SUMMARY:Using Disability Law and Domestic Abuse Protections to Avoid Eviction - Practical Tools for Advocates and Legal Service Providers
DESCRIPTION:Eviction is often the result of circumstances far beyond a tenant’s control—especially for people with disabilities and survivors of domestic or sexual violence. Advocates can play a critical role in stopping displacement\, but only if they know how to use the full range of legal protections available. \n  \nIn this webinar\, attorneys from the Disability Rights Education and Defense Fund (DREDF) and the Family Violence Appellate Project (FVAP) will walk through legal strategies to prevent eviction and other adverse housing actions. \n  \nDREDF will cover how to use disability rights laws to protect tenants\, including: \n– Using fair housing laws to stop or delay eviction \n– Advocating for tenants who have difficulty communicating or who need decision-making support \n– Strategies for representing clients who do not want to disclose a disability \n  \nFVAP will cover eviction protections for survivors\, including: – Legal defenses when eviction is tied to domestic violence\, sexual assault\, stalking\, or other abuse \n– Protections when tenants needed emergency assistance because of violence or another crisis \n– How to frame survivor-based defenses effectively in housing court and with landlords \n  \nParticipants will leave with a clearer understanding of how disability law and survivor protections can work together to keep people housed. \n  \n*ASL and CART (live captions) provided. Contact Ally Cline at acline@dredf.org for any accommodations you may need by Thursday\, February 12\, 2026. Late requests may not be possible to fill. You must register in advance for this webinar: Registration Link.
URL:https://dredf.org/event/using-disability-law-and-domestic-abuse-protections-to-avoid-eviction-practical-tools-for-advocates-and-legal-service-providers/
LOCATION:Zoom
END:VEVENT
BEGIN:VEVENT
DTSTART;TZID=America/Los_Angeles:20260225T103000
DTEND;TZID=America/Los_Angeles:20260225T120000
DTSTAMP:20260424T064830
CREATED:20260219T005752Z
LAST-MODIFIED:20260221T000133Z
UID:30951-1772015400-1772020800@dredf.org
SUMMARY:Texas v. Kennedy (2026) -- The renewed attack on Section 504 and Olmstead
DESCRIPTION:Nine states – Alaska\, Florida\, Indiana\, Kansas\, Louisiana\, Missouri\, Montana\, South Dakota\, and Texas – have renewed their attack on Section 504 and our right to live in the community. In Texas v. Kennedy (2026)\, the states say that the updated Section 504 rules are unlawful and unconstitutional. They want to weaken the “integration mandate” — the rule that people with disabilities have a right to live in the community with supports and not be forced into nursing homes and hospitals. Join this webinar to learn how to fight this dangerous plan to take away our human rights. \n  \nPresenters: \n-Claudia Center (she/her)\, Legal Director\, Disability Rights Education & Defense Fund \n-Maria Town (she/her)\, President and CEO of the American Association of People with Disabilities \n-Jennifer Mathis (she/her)\, Deputy Director\, Bazelon Center for Mental Health Law \n-Theo W. Braddy (he/him)\, Executive Director\, National Council on Independent Living \n  \n*ASL and CART (live captions) provided. Contact Ally Cline at acline@dredf.org for any accommodations you may need by Friday\, February 20th. Late requests may not be possible to fill. You must register in advance for this webinar: Registration Link
URL:https://dredf.org/event/texas-v-kennedy-2026-the-renewed-attack-on-section-504-and-olmstead/
LOCATION:Zoom
END:VEVENT
END:VCALENDAR